BEGIN:VCALENDAR
VERSION:2.0
PRODID:-//thegreatestcocktails.com - ECPv6.15.20//NONSGML v1.0//EN
CALSCALE:GREGORIAN
METHOD:PUBLISH
X-ORIGINAL-URL:https://thegreatestcocktails.com
X-WR-CALDESC:Events for thegreatestcocktails.com
REFRESH-INTERVAL;VALUE=DURATION:PT1H
X-Robots-Tag:noindex
X-PUBLISHED-TTL:PT1H
BEGIN:VTIMEZONE
TZID:America/Los_Angeles
BEGIN:DAYLIGHT
TZOFFSETFROM:-0800
TZOFFSETTO:-0700
TZNAME:PDT
DTSTART:20250309T100000
END:DAYLIGHT
BEGIN:STANDARD
TZOFFSETFROM:-0700
TZOFFSETTO:-0800
TZNAME:PST
DTSTART:20251102T090000
END:STANDARD
BEGIN:DAYLIGHT
TZOFFSETFROM:-0800
TZOFFSETTO:-0700
TZNAME:PDT
DTSTART:20260308T100000
END:DAYLIGHT
BEGIN:STANDARD
TZOFFSETFROM:-0700
TZOFFSETTO:-0800
TZNAME:PST
DTSTART:20261101T090000
END:STANDARD
BEGIN:DAYLIGHT
TZOFFSETFROM:-0800
TZOFFSETTO:-0700
TZNAME:PDT
DTSTART:20270314T100000
END:DAYLIGHT
BEGIN:STANDARD
TZOFFSETFROM:-0700
TZOFFSETTO:-0800
TZNAME:PST
DTSTART:20271107T090000
END:STANDARD
END:VTIMEZONE
BEGIN:VEVENT
DTSTART;TZID=America/Los_Angeles:20260421T170000
DTEND;TZID=America/Los_Angeles:20260421T210000
DTSTAMP:20260421T153022
CREATED:20260418T063029Z
LAST-MODIFIED:20260418T063029Z
UID:1946-1776790800-1776805200@thegreatestcocktails.com
SUMMARY:Pantone 294 Watch Party — April 21 | The Greatest Hawthorne
DESCRIPTION:Pantone 294 — Hawthorne Chapter Watch Party · Tuesday April 21 · Starts 5:00 PM PT · Game time 6:45 PM PT · LA Dodgers vs San Francisco Giants · Come watch live at The Greatest — Hawthorne’s home for Dodger baseball. Wall-to-wall TVs inside and on the covered patio. Domestic Buckets $22 · Import/Premium Buckets $27 · Jager Bombs $7 · Herradura Dodgerita $13. Free entry. Free parking on-site.
URL:https://thegreatestcocktails.com/event/pantone-294-watch-party-april-21-hawthorne/
LOCATION:The Greatest Cocktails\, 13766 S Inglewood Ave\, Hawthorne\, 90250\, US
CATEGORIES:Pantone 294 Parties
ATTACH;FMTTYPE=image/webp:https://thegreatestcocktails.com/wp-content/uploads/2026/04/the-greatest-sports-bar-hawthorne-dodgers-party-Image17.webp
END:VEVENT
BEGIN:VEVENT
DTSTART;TZID=America/Los_Angeles:20260520T160000
DTEND;TZID=America/Los_Angeles:20260520T200000
DTSTAMP:20260421T153022
CREATED:20260418T063029Z
LAST-MODIFIED:20260418T063029Z
UID:1948-1779292800-1779307200@thegreatestcocktails.com
SUMMARY:Pantone 294 Watch Party — May 20 | The Greatest Hawthorne
DESCRIPTION:Pantone 294 — Hawthorne Chapter Watch Party · Wednesday May 20 · Starts 4:00 PM PT · Game time 5:40 PM PT · LA Dodgers vs San Diego Padres · Come watch live at The Greatest — Hawthorne’s home for Dodger baseball. Wall-to-wall TVs inside and on the covered patio. Domestic Buckets $22 · Import/Premium Buckets $27 · Jager Bombs $7 · Herradura Dodgerita $13. Free entry. Free parking on-site.
URL:https://thegreatestcocktails.com/event/pantone-294-watch-party-may-20-hawthorne/
LOCATION:The Greatest Cocktails\, 13766 S Inglewood Ave\, Hawthorne\, 90250\, US
CATEGORIES:Pantone 294 Parties
ATTACH;FMTTYPE=image/webp:https://thegreatestcocktails.com/wp-content/uploads/2026/04/the-greatest-sports-bar-hawthorne-dodgers-party-Image17.webp
END:VEVENT
BEGIN:VEVENT
DTSTART;TZID=America/Los_Angeles:20260626T170000
DTEND;TZID=America/Los_Angeles:20260626T210000
DTSTAMP:20260421T153022
CREATED:20260418T063029Z
LAST-MODIFIED:20260418T063029Z
UID:1950-1782493200-1782507600@thegreatestcocktails.com
SUMMARY:Pantone 294 Watch Party — June 26 | The Greatest Hawthorne
DESCRIPTION:Pantone 294 — Hawthorne Chapter Watch Party · Friday June 26 · Starts 5:00 PM PT · Game time 6:45 PM PT · LA Dodgers vs San Diego Padres · Come watch live at The Greatest — Hawthorne’s home for Dodger baseball. Wall-to-wall TVs inside and on the covered patio. Domestic Buckets $22 · Import/Premium Buckets $27 · Jager Bombs $7 · Herradura Dodgerita $13. Free entry. Free parking on-site.
URL:https://thegreatestcocktails.com/event/pantone-294-watch-party-june-26-hawthorne/
LOCATION:The Greatest Cocktails\, 13766 S Inglewood Ave\, Hawthorne\, 90250\, US
CATEGORIES:Pantone 294 Parties
ATTACH;FMTTYPE=image/webp:https://thegreatestcocktails.com/wp-content/uploads/2026/04/the-greatest-sports-bar-hawthorne-dodgers-party-Image17.webp
END:VEVENT
BEGIN:VEVENT
DTSTART;TZID=America/Los_Angeles:20260729T170000
DTEND;TZID=America/Los_Angeles:20260729T210000
DTSTAMP:20260421T153022
CREATED:20260418T063029Z
LAST-MODIFIED:20260418T063029Z
UID:1952-1785344400-1785358800@thegreatestcocktails.com
SUMMARY:Pantone 294 Watch Party — July 29 | The Greatest Hawthorne
DESCRIPTION:Pantone 294 — Hawthorne Chapter Watch Party · Wednesday July 29 · Starts 5:00 PM PT · Game time 7:10 PM PT · LA Dodgers vs Seattle Mariners · Come watch live at The Greatest — Hawthorne’s home for Dodger baseball. Wall-to-wall TVs inside and on the covered patio. Domestic Buckets $22 · Import/Premium Buckets $27 · Jager Bombs $7 · Herradura Dodgerita $13. Free entry. Free parking on-site.
URL:https://thegreatestcocktails.com/event/pantone-294-watch-party-july-29-hawthorne/
LOCATION:The Greatest Cocktails\, 13766 S Inglewood Ave\, Hawthorne\, 90250\, US
CATEGORIES:Pantone 294 Parties
ATTACH;FMTTYPE=image/webp:https://thegreatestcocktails.com/wp-content/uploads/2026/04/the-greatest-sports-bar-hawthorne-dodgers-party-Image17.webp
END:VEVENT
BEGIN:VEVENT
DTSTART;TZID=America/Los_Angeles:20260819T160000
DTEND;TZID=America/Los_Angeles:20260819T200000
DTSTAMP:20260421T153022
CREATED:20260418T063029Z
LAST-MODIFIED:20260418T063029Z
UID:1954-1787155200-1787169600@thegreatestcocktails.com
SUMMARY:Pantone 294 Watch Party — August 19 | The Greatest Hawthorne
DESCRIPTION:Pantone 294 — Hawthorne Chapter Watch Party · Wednesday August 19 · Starts 4:00 PM PT · Game time 5:40 PM PT · LA Dodgers vs Colorado Rockies · Come watch live at The Greatest — Hawthorne’s home for Dodger baseball. Wall-to-wall TVs inside and on the covered patio. Domestic Buckets $22 · Import/Premium Buckets $27 · Jager Bombs $7 · Herradura Dodgerita $13. Free entry. Free parking on-site.
URL:https://thegreatestcocktails.com/event/pantone-294-watch-party-august-19-hawthorne/
LOCATION:The Greatest Cocktails\, 13766 S Inglewood Ave\, Hawthorne\, 90250\, US
CATEGORIES:Pantone 294 Parties
ATTACH;FMTTYPE=image/webp:https://thegreatestcocktails.com/wp-content/uploads/2026/04/the-greatest-sports-bar-hawthorne-dodgers-party-Image17.webp
END:VEVENT
BEGIN:VEVENT
DTSTART;TZID=America/Los_Angeles:20260925T170000
DTEND;TZID=America/Los_Angeles:20260925T210000
DTSTAMP:20260421T153022
CREATED:20260418T063029Z
LAST-MODIFIED:20260418T063029Z
UID:1956-1790355600-1790370000@thegreatestcocktails.com
SUMMARY:Pantone 294 Watch Party — September 25 | The Greatest Hawthorne
DESCRIPTION:Pantone 294 — Hawthorne Chapter Watch Party · Friday September 25 · Starts 5:00 PM PT · Game time 7:15 PM PT · LA Dodgers vs San Francisco Giants · Come watch live at The Greatest — Hawthorne’s home for Dodger baseball. Wall-to-wall TVs inside and on the covered patio. Domestic Buckets $22 · Import/Premium Buckets $27 · Jager Bombs $7 · Herradura Dodgerita $13. Free entry. Free parking on-site.
URL:https://thegreatestcocktails.com/event/pantone-294-watch-party-september-25-hawthorne/
LOCATION:The Greatest Cocktails\, 13766 S Inglewood Ave\, Hawthorne\, 90250\, US
CATEGORIES:Pantone 294 Parties
ATTACH;FMTTYPE=image/webp:https://thegreatestcocktails.com/wp-content/uploads/2026/04/the-greatest-sports-bar-hawthorne-dodgers-party-Image17.webp
END:VEVENT
END:VCALENDAR